BEGIN:VCALENDAR
VERSION:2.0
PRODID:-//Q2//App//EN
CALSCALE:GREGORIAN
METHOD:PUBLISH
BEGIN:VTIMEZONE
TZID:America/Toronto
BEGIN:STANDARD
DTSTART:20271107T010000
TZOFFSETFROM:-0400
TZOFFSETTO:-0500
TZNAME:EST
END:STANDARD
BEGIN:DAYLIGHT
DTSTART:20270314T030000
TZOFFSETFROM:-0500
TZOFFSETTO:-0400
TZNAME:EDT
END:DAYLIGHT
END:VTIMEZONE
BEGIN:VEVENT
UID:26@longevitymontreal.com
DTSTAMP:20260421T121815Z
DTSTART;TZID=America/Toronto:20250413T130000
DTEND;TZID=America/Toronto:20250413T163000
SUMMARY:DD Mtl - Mont-St-Hilaire Hike
STATUS:CONFIRMED
DESCRIPTION:What better way to welcome spring than with a hike in one of ou
 r regions most famous mountains. \n\nFear not\, carpooling options will be
  made available to those in need\, given its location from our fair island
 . \n\nWe will be meeting at the Mountain's Entrance (https://www.google.co
 m/maps/place/Mont+Saint-Hilaire/@45.5351786\,-73.1569962\,15z/data=!4m14!1
 m7!3m6!1s0x4cc9ab5da7b4def9:0x434c92e54e2c3b95!2sGault+Nature+Reserve+of+M
 cGill+University!8m2!3d45.5524978!4d-73.1553738!16s%2Fg%2F1tdc4vt2!3m5!1s0
 x4cc9ab60d6b130d5:0x752d0321be1493eb!8m2!3d45.535143!4d-73.1569962!16s%2Fg
 %2F11pydrzwk8!5m1!1e2?entry=ttu&g_ep=EgoyMDI1MDQwOC4wIKXMDSoASAFQAw%3D%3D)
  for 1pm\n\nTickets must be purchased in advance Here (https://reservegaul
 t.ca/en_US/shop/product/day-pass-adult-18-1676). \nBe sure to select the c
 orrect date and time: Sunday the 13th\, between for the 12:00 to 13:59 tim
 e slot. Keep in mind that they often sell out 2-3 days in advance\, so get
  them early!\n\nFor further communication\, you can find us in our WhatsAp
 p Community (https://chat.whatsapp.com/JSaf3nzgAUw2NS9bE5zklw)\, and our d
 edicated Event Chat (https://chat.whatsapp.com/KzXAzyxD6ooArM9wGcfPaU) for
  coordination.\n\nThe view alone is worth the trip\, so swing by should yo
 u be curious to meet-up with your fellow Don’t Die’ers! \n-Anrif\n\n*P
 s: If you can't make it for Sunday's Hike\, maybe you can make it for Satu
 rday's! (https://longevitymontreal.com/event/dd-mtl-mt-royal-hike-meditati
 on/)
X-ALT-DESC;FMTTYPE=text/html:<!-- wp:paragraph {"fontSize":"medium"} -->\n<
 p class="has-medium-font-size">What better way to welcome spring than with
  a hike in one of our regions most famous mountains. </p>\n<!-- /wp:paragr
 aph -->\n\n<!-- wp:paragraph {"fontSize":"medium"} -->\n<p class="has-medi
 um-font-size">Fear not\, carpooling options will be made available to thos
 e in need\, given its location from our fair island. </p>\n<!-- /wp:paragr
 aph -->\n\n<!-- wp:paragraph {"fontSize":"medium"} -->\n<p class="has-medi
 um-font-size">We will be meeting at the <a href="https://www.google.com/ma
 ps/place/Mont+Saint-Hilaire/@45.5351786\,-73.1569962\,15z/data=!4m14!1m7!3
 m6!1s0x4cc9ab5da7b4def9:0x434c92e54e2c3b95!2sGault+Nature+Reserve+of+McGil
 l+University!8m2!3d45.5524978!4d-73.1553738!16s%2Fg%2F1tdc4vt2!3m5!1s0x4cc
 9ab60d6b130d5:0x752d0321be1493eb!8m2!3d45.535143!4d-73.1569962!16s%2Fg%2F1
 1pydrzwk8!5m1!1e2?entry=ttu&amp\;g_ep=EgoyMDI1MDQwOC4wIKXMDSoASAFQAw%3D%3D
 ">Mountain's Entrance</a> for 1pm</p>\n<!-- /wp:paragraph -->\n\n<!-- wp:p
 aragraph {"fontSize":"medium"} -->\n<p class="has-medium-font-size">Ticket
 s must be purchased in advance <a href="https://reservegault.ca/en_US/shop
 /product/day-pass-adult-18-1676">Here</a>. <br>Be sure to select the corre
 ct date and time: <strong>Sunday the 13th\, between for the 12:00 to 13:59
  time slot. </strong>Keep in mind that they often sell out 2-3 days in adv
 ance\, so get them early!</p>\n<!-- /wp:paragraph -->\n\n<!-- wp:paragraph
  {"fontSize":"medium"} -->\n<p class="has-medium-font-size">For further co
 mmunication\, you can find us in our <a href="https://chat.whatsapp.com/JS
 af3nzgAUw2NS9bE5zklw">WhatsApp Community</a>\, and our dedicated <a href="
 https://chat.whatsapp.com/KzXAzyxD6ooArM9wGcfPaU">Event Chat</a> for coord
 ination.</p>\n<!-- /wp:paragraph -->\n\n<!-- wp:paragraph {"fontSize":"med
 ium"} -->\n<p class="has-medium-font-size">The view alone is worth the tri
 p\, so swing by should you be curious to meet-up with your fellow Don’t 
 Die’ers! <br>-Anrif</p>\n<!-- /wp:paragraph -->\n\n<!-- wp:paragraph {"f
 ontSize":"medium"} -->\n<p class="has-medium-font-size"></p>\n<!-- /wp:par
 agraph -->\n\n<!-- wp:paragraph {"fontSize":"medium"} -->\n<p class="has-m
 edium-font-size">*Ps: If you can't make it for Sunday's Hike\, maybe you c
 an make it for <a href="https://longevitymontreal.com/event/dd-mtl-mt-roya
 l-hike-meditation/">Saturday's!</a></p>\n<!-- /wp:paragraph -->
URL:https://www.longevitymontreal.com/events/dd-mtl-mont-st-hilaire-hike/
LAST-MODIFIED:20250410T140736Z
CREATED:20250219T215331Z
BEGIN:VALARM
TRIGGER:-PT1H
ACTION:DISPLAY
DESCRIPTION:Event reminder
END:VALARM
END:VEVENT
END:VCALENDAR
