BEGIN:VCALENDAR
VERSION:2.0
PRODID:-//Q2//App//EN
CALSCALE:GREGORIAN
METHOD:PUBLISH
BEGIN:VTIMEZONE
TZID:America/Toronto
BEGIN:STANDARD
DTSTART:20271107T010000
TZOFFSETFROM:-0400
TZOFFSETTO:-0500
TZNAME:EST
END:STANDARD
BEGIN:DAYLIGHT
DTSTART:20270314T030000
TZOFFSETFROM:-0500
TZOFFSETTO:-0400
TZNAME:EDT
END:DAYLIGHT
END:VTIMEZONE
BEGIN:VEVENT
UID:483@longevitymontreal.com
DTSTAMP:20260421T120035Z
DTSTART;TZID=America/Toronto:20250831T103000
DTEND;TZID=America/Toronto:20250831T140000
SUMMARY:Psychedelic & Meditation Adventure (Mt-Royal) - August 31st\, 2025
STATUS:CONFIRMED
DESCRIPTION:Hosted by: Anrif\n\n---\n\nAs many of you may know\, I am gradu
 ally scaling down the number of events I personally host. My focus is shif
 ting toward building the infrastructure and systems that will allow our co
 mmunity to grow in scale and autonomy\, while creating a more professional
  framework for the future.\n\nThis effort will take several weeks &/or mon
 ths\, and that being said\, I still enjoy hosting on occasion! This Sunday
 's walk up Mt-Royal is one such event.\n\nFor full transparency: I will be
  undertaking this hike while under the effects of LSD & MDMA.\n\nMy intent
 ion is to begin as the substance takes effect\, reach the summit as it pea
 ks\, and then meditate on the mountaintop for an indeterminate period of t
 ime.\n\nYou are welcome to join me for the hike up\, and to stay as long o
 r as briefly as you wish at the summit. I may meditate for five minutes or
  five hours. I cannot say in advance.\n\nIf you feel called to come along 
 for part of the experience\, the door is open!\n\nPlease account for the f
 act that I make no promises of accompanying you back on the return trip.\n
 \n---\n\nWe’ll meet at 10:30 AM near the Street Fitness gym\, a short wa
 lk from Mont-Royal and Laurier metro stations\, then make our way up the m
 ountain together at a steady\, social pace. This event is suitable to all 
 fitness levels and forms of company. Come solo\, bring a friend\, or invit
 e family. All are welcome.\n\nOnce at the summit\, there will be time to p
 ause\, rest\, and for those who wish\, sit in quiet meditation before sett
 ling in for the meditation or making the return trip down (depending on yo
 ur preference).\n\n---\n\nWhat to Know\n\n• 1-Way trip hike (guaranteed)
 \, suitable for all fitness levels• Bring water\, hat/sunscreen\, and a 
 snack (especially if you intend to stay/meditate)• Open to all (solo\, w
 ith friends\, or family)• No expectations\, just community• The return
  trip will depend on when participants wish to descend\n\n---\n\nAgenda\n\
 n🕥 10:15 – 10:30 AM | Early Bird (Open Socialization & Calisthenics P
 eriod) at Street Fitness location (https://maps.app.goo.gl/GqpDvTR2p5brxsZ
 b8)🚶 10:30 – 10:50 AM | Departure towards the Monument Sir George-É
 tienne Cartier (https://www.google.com/maps/place/Monument+to+Sir+George-%
 C3%89tienne+Cartier/@45.5142369\,-73.5877957\,16z/data=!3m1!4b1!4m6!3m5!1s
 0x4cc91a320b7b7cb1:0xd7b453760780c689!8m2!3d45.5142332!4d-73.5852154!16s%2
 Fm%2F0806q9_!5m1!1e2?entry=ttu&g_ep=EgoyMDI1MDgwNS4wIKXMDSoASAFQAw%3D%3D)
  10:50-55 AM | Arrival at the Mountain's base\, & an alternative meet-
 up spot for attendees (+ Bathroom)🥾 10:55 – ≈12:00 PM | We reach t
 he peak\, with an opportunity for a water/bathroom break:     → A caf
 e is available for food or drinks\, with indoor seating available for a re
 st and discussion period.🧘 ≈12:00 PM onward | Open-ended meditation a
 nd community reflection at the summit🌄 Flexible end time | Participant
 s may descend when they choose\n\n---\n\nLogistics\n\n📍 Meeting point 
 – Street Fitness Gym (Near Mont-Royal & Laurier Metro (https://maps.app.
 goo.gl/GqpDvTR2p5brxsZb8))\n💬 Join our WhatsApp chat for updates and c
 oordination (https://chat.whatsapp.com/Bp1sCzZfjOE197K08umWvL)\n🥾 Foll
 ow us on Strava to track our hikes and upcoming physical activities (https
 ://www.strava.com/clubs/longevity-montreal)\n📸 Follow Longevity Montre
 al on Instagram (https://www.instagram.com/longevitymontreal/?fbclid=IwZXh
 0bgNhZW0CMTEAAR1rYgAUJQBZhy-tqnpWCGY47PhgvOErR8VZQXTnffgnYY0z6wvDUumbl50_a
 em_-kKPwrK-nzeC6qIuPo4HTA)\n📘 Join us on Facebook (https://www.faceboo
 k.com/profile.php?id=61574219552788)\n\nWeather check\n🌤️ View the 7
 -day Montreal forecast (https://www.theweathernetwork.com/en/city/ca/quebe
 c/montreal/7-days)\n\n---\n\nFinal Considerations:\n\nWhile I will be unde
 r the effect of powerful psychedelics\, please note that I do not engage i
 n nor condone self-harm. I know the quality of what I take\, and trust my 
 mind and body to handle this experience based off of many years of persona
 l experimentation.\n\nYou are most welcome to join! That said\, please con
 sider the following:\n\n •  I am not asking\, telling\, nor even encour
 aging you to show up in an altered state.\n\n •  I am not prohibiting y
 ou from doing so\, either.\n\n •  I will not be distributing (selling/s
 haring) LSD or MDMA\, and wish to remind you that while mostly safe\, it i
 s still illegal.\n\nListen to your intuition\, and above all\, respect you
 rself 💜\n\n---\n\nSee you on the mountain!– Anrif
X-ALT-DESC;FMTTYPE=text/html:<p data-start="102" data-end="124"><strong dat
 a-start="102" data-end="122">Hosted by: Anrif</strong></p>\n\n\n<hr data-s
 tart="126" data-end="129" />\n<p data-start="1761" data-end="2045">As many
  of you may know\, I am gradually scaling down the number of events I pers
 onally host. My focus is shifting toward building the infrastructure and s
 ystems that will allow our community to grow in scale and autonomy\, while
  creating a more professional framework for the future.</p>\n<p data-start
 ="1761" data-end="2045">This effort will take several weeks &amp\;/or mont
 hs\, and that being said\, I still enjoy hosting on occasion! This Sunday'
 s walk up Mt-Royal is one such event.</p>\n<p style="text-align: center" d
 ata-start="1761" data-end="2045">For full transparency: <span style="text-
 decoration: underline"><strong>I will be undertaking this hike while under
  the effects of LSD &amp\; MDMA</strong></span>.</p>\n<p data-start="1761"
  data-end="2045">My intention is to begin as the substance takes effect\, 
 reach the summit as it peaks\, and then meditate on the mountaintop for an
  indeterminate period of time.</p>\n<p data-start="2378" data-end="2634">Y
 ou are welcome to join me for the hike up\, and to stay as long or as brie
 fly as you wish at the summit. I may meditate for five minutes or five hou
 rs. I cannot say in advance.</p>\n<p style="text-align: center" data-start
 ="2378" data-end="2634"><span style="text-decoration: underline">If you fe
 el called to come along for part of the experience\, the door is open!</sp
 an></p>\n<p style="text-align: center" data-start="2378" data-end="2634"><
 span style="text-decoration: underline"><strong>Please account for the fac
 t that I make no promises of accompanying you back on the return trip.</st
 rong></span></p>\n\n\n<hr data-start="718" data-end="721" />\n<p data-star
 t="260" data-end="574">We’ll meet at <strong data-start="274" data-end="
 286">10:30 AM</strong> near the Street Fitness gym\, a short walk from Mon
 t-Royal and Laurier metro stations\, then make our way up the mountain tog
 ether at a steady\, social pace. This event is suitable to all fitness lev
 els and forms of company. Come solo\, bring a friend\, or invite family. A
 ll are welcome.</p>\n<p data-start="576" data-end="716">Once at the summit
 \, there will be time to pause\, rest\, and for those who wish\, sit in qu
 iet meditation before settling in for the meditation or making the return 
 trip down (depending on your preference).</p>\n\n\n<hr data-start="718" da
 ta-end="721" />\n\n<h3 data-start="723" data-end="741">What to Know</h3>\n
 <p data-start="743" data-end="1018">• 1-Way trip hike (guaranteed)\, sui
 table for all fitness levels<br data-start="794" data-end="797" />• <str
 ong>Bring water\, hat/sunscreen\, and a snack</strong> (especially if you 
 intend to stay/meditate)<br data-start="844" data-end="847" />• Open to 
 all (solo\, with friends\, or family)<br data-start="892" data-end="895" /
 >• No expectations\, just community<br data-start="928" data-end="931" /
 >• The return trip will depend on when participants wish to descend</p>\
 n\n\n<hr data-start="1020" data-end="1023" />\n\n<h3 data-start="1025" dat
 a-end="1037">Agenda</h3>\n<p data-start="1039" data-end="1343">🕥 <stron
 g data-start="1042" data-end="1062">10:15 – 10:30 AM</strong> | Early Bi
 rd (Open Socialization &amp\; Calisthenics Period) at <a href="https://map
 s.app.goo.gl/GqpDvTR2p5brxsZb8">Street Fitness location</a><br data-start=
 "1104" data-end="1107" />🚶 <strong>10:30 – 10:50 AM</strong> | Depar
 ture towards the <a href="https://www.google.com/maps/place/Monument+to+Si
 r+George-%C3%89tienne+Cartier/@45.5142369\,-73.5877957\,16z/data=!3m1!4b1!
 4m6!3m5!1s0x4cc91a320b7b7cb1:0xd7b453760780c689!8m2!3d45.5142332!4d-73.585
 2154!16s%2Fm%2F0806q9_!5m1!1e2?entry=ttu&amp\;g_ep=EgoyMDI1MDgwNS4wIKXMDSo
 ASAFQAw%3D%3D">Monument Sir George-Étienne Cartier</a><br data-start="110
 4" data-end="1107" />📍 <strong>10:50-55 AM</strong> | Arrival at the M
 ountain's base\, <em>&amp\; an alternative meet-up spot for attendees (+ B
 athroom)</em><br data-start="1104" data-end="1107" />🥾 <strong>10:55 
  <b>≈</b>12:00 PM</strong> | We reach the peak\, with an opportunity f
 or a water/bathroom break:<br data-start="1182" data-end="1185" />     
 → A cafe is available for food or drinks\, with indoor seating available
  for a rest and discussion period.<br data-start="1271" data-end="1274" />
 🧘 <strong data-start="1188" data-end="1208">≈12:00 PM onward</strong>
  | Open-ended meditation and community reflection at the summit<br data-st
 art="1271" data-end="1274" />🌄 <strong data-start="1276" data-end="129
 7">Flexible end time</strong> | Participants may descend when they choose<
 /p>\n\n\n<hr data-start="1345" data-end="1348" />\n\n<h3 data-start="1350"
  data-end="1365">Logistics</h3>\n📍 <a href="https://maps.app.goo.gl/Gq
 pDvTR2p5brxsZb8">Meeting point – Street Fitness Gym (Near Mont-Royal &am
 p\; Laurier Metro</a>)\n💬 <a href="https://chat.whatsapp.com/Bp1sCzZfj
 OE197K08umWvL">Join our WhatsApp chat for updates and coordination</a>\n
  <a href="https://www.strava.com/clubs/longevity-montreal">Follow us on
  Strava to track our hikes and upcoming physical activities</a>\n📸 <a 
 href="https://www.instagram.com/longevitymontreal/?fbclid=IwZXh0bgNhZW0CMT
 EAAR1rYgAUJQBZhy-tqnpWCGY47PhgvOErR8VZQXTnffgnYY0z6wvDUumbl50_aem_-kKPwrK-
 nzeC6qIuPo4HTA">Follow Longevity Montreal on Instagram</a>\n📘 <a href=
 "https://www.facebook.com/profile.php?id=61574219552788">Join us on Facebo
 ok</a>\n\n<strong>Weather check</strong>\n🌤️ <a href="https://www.th
 eweathernetwork.com/en/city/ca/quebec/montreal/7-days">View the 7-day Mont
 real forecast</a>\n\n<hr data-start="1731" data-end="1734" />\n\n<h3 data-
 start="1736" data-end="1759">Final Considerations:</h3>\n<p data-start="23
 78" data-end="2634">While I will be under the effect of powerful psychedel
 ics\, please note that I do not engage in nor condone self-harm. I know th
 e quality of what I take\, and trust my mind and body to handle this exper
 ience based off of many years of personal experimentation.</p>\n<p data-st
 art="2378" data-end="2634">You are most welcome to join! That said\, pleas
 e consider the following:</p>\n\n<ol>\n 	<li data-start="2378" data-end="2
 634"> I am not asking\, telling\, nor even encouraging you to show up in 
 an altered state.</li>\n 	<li data-start="2378" data-end="2634"> I am not
  prohibiting you from doing so\, either.</li>\n 	<li data-start="2378" dat
 a-end="2634"> I will not be distributing (selling/sharing) LSD or MDMA\, 
 and wish to remind you that while <span style="text-decoration: underline"
 ><em>mostly</em></span> safe\, <span style="text-decoration: underline"><s
 trong>it is still illegal</strong></span>.</li>\n</ol>\nListen to your int
 uition\, and above all\, respect yourself 💜\n\n<hr data-start="2636" da
 ta-end="2639" />\n<p data-start="2641" data-end="2681"><strong data-start=
 "2641" data-end="2669">See you on the mountain!</strong><br data-start="26
 69" data-end="2672" />– Anrif</p>
URL:https://www.longevitymontreal.com/events/psychedelic-meditation-adventu
 re-mt-royal-august-31st-2025/
LAST-MODIFIED:20250830T141806Z
CREATED:20250830T131100Z
BEGIN:VALARM
TRIGGER:-PT1H
ACTION:DISPLAY
DESCRIPTION:Event reminder
END:VALARM
END:VEVENT
END:VCALENDAR
