BEGIN:VCALENDAR
VERSION:2.0
PRODID:-//Q2//App//EN
CALSCALE:GREGORIAN
METHOD:PUBLISH
BEGIN:VTIMEZONE
TZID:America/Toronto
BEGIN:STANDARD
DTSTART:20271107T010000
TZOFFSETFROM:-0400
TZOFFSETTO:-0500
TZNAME:EST
END:STANDARD
BEGIN:DAYLIGHT
DTSTART:20270314T030000
TZOFFSETFROM:-0500
TZOFFSETTO:-0400
TZNAME:EDT
END:DAYLIGHT
END:VTIMEZONE
BEGIN:VEVENT
UID:311@longevitymontreal.com
DTSTAMP:20260421T094350Z
DTSTART;TZID=America/Toronto:20250412T103000
DTEND;TZID=America/Toronto:20250412T140000
SUMMARY:DD Mtl - Mt-Royal Hike &amp\; Meditation
STATUS:CONFIRMED
DESCRIPTION:Our community organizes a Hike up Mt-Royal\, every Saturday at 
 10h30am\, and this week will be no exception.\n\nIn consideration for our 
 upcoming Mont-St-Hilaire Hike\, (https://longevitymontreal.com/event/dd-mt
 l-mont-st-hilaire-hike/) happening Sunday (the very next day)\, there will
  be a slight modification to our typical routine.\n\nWe will still start a
 t 10h30am at the Sir George-Étienne Cartier Monument (https://www.google.
 com/maps/place/Monument+to+Sir+George-%C3%89tienne+Cartier/@45.514359\,-73
 .5865017\,18.37z/data=!4m10!1m2!2m1!1sgeorge+etienne+cartier!3m6!1s0x4cc91
 a320b7b7cb1:0xd7b453760780c689!8m2!3d45.5142332!4d-73.5852154!15sChZnZW9yZ
 2UgZXRpZW5uZSBjYXJ0aWVyWhgiFmdlb3JnZSBldGllbm5lIGNhcnRpZXKSAQhtb251bWVudOA
 BAA!16s%2Fm%2F0806q9_!5m1!1e2?entry=ttu&g_ep=EgoyMDI1MDQwOC4wIKXMDSoASAFQA
 w%3D%3D)\, but our hike will be somewhat more.. unidirectional. Once we re
 ach the peak\, though you are free to continue with your hike\, I will be 
 stopping to meditate.\n\nYou are most welcome to join me\, though please b
 ear in mind that the expected temperature is 6-8°C\, with a slight possib
 ility of gentle rain. Bring the supplies and clothing you feel appropriate
 \, and please consider the following:\n\n(1) We have an event The Very Nex
 t Day (https://longevitymontreal.com/event/dd-mtl-mont-st-hilaire-hike/)\,
  our time is precious and limited\, so don't feel pressured to come out of
  obligation.\n\n(2) Unlike our other hikes where we go up\, then down\, wi
 th an optional calisthenics session afterwards\, this is a one way trip up
 . Should you want to join me in contemplative meditation\, it would be my 
 pleasure to have you join!\n\nWith that\, I hope to see you either Saturda
 y or Sunday!\n\n-Anrif
X-ALT-DESC;FMTTYPE=text/html:<!-- wp:paragraph -->\n<p>Our community organi
 zes a Hike up Mt-Royal\, every Saturday at 10h30am\, and this week will be
  no exception.</p>\n<!-- /wp:paragraph -->\n\n<!-- wp:paragraph -->\n<p>In
  consideration for our upcoming <a href="https://longevitymontreal.com/eve
 nt/dd-mtl-mont-st-hilaire-hike/">Mont-St-Hilaire Hike\,</a> happening Sund
 ay (the very next day)\, there will be a slight modification to our typica
 l routine.</p>\n<!-- /wp:paragraph -->\n\n<!-- wp:paragraph -->\n<p>We wil
 l still start at 10h30am at the <a href="https://www.google.com/maps/place
 /Monument+to+Sir+George-%C3%89tienne+Cartier/@45.514359\,-73.5865017\,18.3
 7z/data=!4m10!1m2!2m1!1sgeorge+etienne+cartier!3m6!1s0x4cc91a320b7b7cb1:0x
 d7b453760780c689!8m2!3d45.5142332!4d-73.5852154!15sChZnZW9yZ2UgZXRpZW5uZSB
 jYXJ0aWVyWhgiFmdlb3JnZSBldGllbm5lIGNhcnRpZXKSAQhtb251bWVudOABAA!16s%2Fm%2F
 0806q9_!5m1!1e2?entry=ttu&amp\;g_ep=EgoyMDI1MDQwOC4wIKXMDSoASAFQAw%3D%3D">
 Sir George-Étienne Cartier Monument</a>\, but our hike will be somewhat m
 ore.. unidirectional. Once we reach the peak\, though you are free to cont
 inue with your hike\, I will be stopping to meditate.</p>\n<!-- /wp:paragr
 aph -->\n\n<!-- wp:paragraph -->\n<p>You are most welcome to join me\, tho
 ugh please bear in mind that the expected temperature is 6-8°C\, with a s
 light possibility of gentle rain. Bring the supplies and clothing you feel
  appropriate\, and please consider the following:</p>\n<!-- /wp:paragraph 
 -->\n\n<!-- wp:paragraph -->\n<p>(1) We have an event <a href="https://lon
 gevitymontreal.com/event/dd-mtl-mont-st-hilaire-hike/">The Very Next Day</
 a>\, our time is precious and limited\, so don't feel pressured to come ou
 t of obligation.</p>\n<!-- /wp:paragraph -->\n\n<!-- wp:paragraph -->\n<p>
 (2) Unlike our other hikes where we go up\, then down\, with an optional c
 alisthenics session afterwards\, this is a one way trip up. Should you wan
 t to join me in contemplative meditation\, it would be my pleasure to have
  you join!</p>\n<!-- /wp:paragraph -->\n\n<!-- wp:paragraph -->\n<p>With t
 hat\, I hope to see you either Saturday or Sunday!</p>\n<!-- /wp:paragraph
  -->\n\n<!-- wp:paragraph -->\n<p>-Anrif</p>\n<!-- /wp:paragraph -->\n\n<!
 -- wp:paragraph -->\n<p></p>\n<!-- /wp:paragraph -->
URL:https://www.longevitymontreal.com/events/dd-mtl-mt-royal-hike-meditatio
 n/
LAST-MODIFIED:20250423T161126Z
CREATED:20250410T133024Z
BEGIN:VALARM
TRIGGER:-PT1H
ACTION:DISPLAY
DESCRIPTION:Event reminder
END:VALARM
END:VEVENT
END:VCALENDAR
