BEGIN:VCALENDAR
VERSION:2.0
PRODID:-//Q2//App//EN
CALSCALE:GREGORIAN
METHOD:PUBLISH
BEGIN:VTIMEZONE
TZID:America/Toronto
BEGIN:STANDARD
DTSTART:20271107T010000
TZOFFSETFROM:-0400
TZOFFSETTO:-0500
TZNAME:EST
END:STANDARD
BEGIN:DAYLIGHT
DTSTART:20270314T030000
TZOFFSETFROM:-0500
TZOFFSETTO:-0400
TZNAME:EDT
END:DAYLIGHT
END:VTIMEZONE
BEGIN:VEVENT
UID:305@longevitymontreal.com
DTSTAMP:20260421T094737Z
DTSTART;TZID=America/Toronto:20250427T103000
DTEND;TZID=America/Toronto:20250427T140000
SUMMARY:Longevity Perth – Don’t Die Meet-Up
STATUS:CONFIRMED
DESCRIPTION:Join us for our next Don’t Die meet-up\, inspired by Bryan Jo
 hnson’s approach to longevity!\n\n📍 Location: Hyde Park\, Perth\n📅
  Date: Sunday\, 27th April\n⏰ Time: 10:30 AM\n\nThis is a casual and wel
 coming gathering for anyone interested in health\, nutrition\, fitness\, s
 leep\, supplements\, and all things longevity. Whether you're deep into bi
 ohacking or just curious about optimizing your health\, come along for gre
 at conversations and good company.\n\nFamilies and kids are welcome! These
  meet-ups tend to flow naturally\, with discussions often continuing until
  2 or 3 PM—so feel free to stay as long as you like.\n\nBring a picnic\,
  some sun protection\, and an open mind—we’d love to see you there!\n\
 nLet us know if you're coming by commenting below or just show up on the d
 ay.\n\nCall or text Hali\n0402161789\nOr join our what's app group here : 
 https://chat.whatsapp.com/H4c48Xk5mPO155jcONjxs8\nOr find us (Longevity Pe
 rth) on Facebook or Instagram\nhttps://www.facebook.com/share/1BL1HsTDTu/\
 nhttps://www.instagram.com/longevityperth/profilecard/?igsh=a2R6OXN3eXU4YW
 l4
X-ALT-DESC;FMTTYPE=text/html:<!-- wp:paragraph -->\n<p>Join us for our next
  Don’t Die meet-up\, inspired by Bryan Johnson’s approach to longevity
 !</p>\n<!-- /wp:paragraph -->\n\n<!-- wp:paragraph -->\n<p>📍 Location: 
 Hyde Park\, Perth<br>📅 Date: Sunday\, 27th April<br>⏰ Time: 10:30 AM<
 /p>\n<!-- /wp:paragraph -->\n\n<!-- wp:paragraph -->\n<p>This is a casual 
 and welcoming gathering for anyone interested in health\, nutrition\, fitn
 ess\, sleep\, supplements\, and all things longevity. Whether you're deep 
 into biohacking or just curious about optimizing your health\, come along 
 for great conversations and good company.</p>\n<!-- /wp:paragraph -->\n\n<
 !-- wp:paragraph -->\n<p>Families and kids are welcome! These meet-ups ten
 d to flow naturally\, with discussions often continuing until 2 or 3 PM—
 so feel free to stay as long as you like.</p>\n<!-- /wp:paragraph -->\n\n<
 !-- wp:paragraph -->\n<p>Bring a picnic\, some sun protection\, and an ope
 n mind—we’d love to see you there!</p>\n<!-- /wp:paragraph -->\n\n<!--
  wp:paragraph -->\n<p>Let us know if you're coming by commenting below or 
 just show up on the day.</p>\n<!-- /wp:paragraph -->\n\n<!-- wp:paragraph 
 -->\n<p>Call or text Hali<br>0402161789<br>Or join our what's app group he
 re : <a href="https://chat.whatsapp.com/H4c48Xk5mPO155jcONjxs8" target="_b
 lank" rel="noreferrer noopener nofollow">https://chat.whatsapp.com/H4c48Xk
 5mPO155jcONjxs8</a><br>Or find us (Longevity Perth) on Facebook or Instagr
 am<br><a href="https://www.facebook.com/share/1BL1HsTDTu/" target="_blank"
  rel="noreferrer noopener nofollow">https://www.facebook.com/share/1BL1HsT
 DTu/</a><br><a href="https://www.instagram.com/longevityperth/profilecard/
 ?igsh=a2R6OXN3eXU4YWl4" target="_blank" rel="noreferrer noopener nofollow"
 >https://www.instagram.com/longevityperth/profilecard/?igsh=a2R6OXN3eXU4YW
 l4</a></p>\n<!-- /wp:paragraph -->\n\n<!-- wp:paragraph -->\n<p></p>\n<!--
  /wp:paragraph -->
URL:https://www.longevitymontreal.com/events/longevity-perth-dont-die-meet-
 up/
LAST-MODIFIED:20250408T231422Z
CREATED:20250408T225725Z
BEGIN:VALARM
TRIGGER:-PT1H
ACTION:DISPLAY
DESCRIPTION:Event reminder
END:VALARM
END:VEVENT
END:VCALENDAR
